BEGIN:VCALENDAR
VERSION:2.0
PRODID:-//Protestantse Gemeente Vorden//NONSGML kigkonsult.se iCalcreator 2.41.92//
CALSCALE:GREGORIAN
METHOD:PUBLISH
UID:61643735-6634-4131-a165-373934376235
X-WR-CALNAME:iCagenda
X-WR-CALDESC:Event Management Extension for Joomla!
X-WR-RELCALID:3E26604A-50F4-4449-8B3E-E4F4932D05B5
X-WR-TIMEZONE:UTC
BEGIN:VTIMEZONE
TZID:UTC
END:VTIMEZONE
BEGIN:VEVENT
UID:66313837-3439-4438-b530-383932663962
DTSTAMP:20260420T091401Z
CATEGORIES:Activiteiten
CLASS:PUBLIC
DESCRIPTION;ALTREP="CID:<FFFF__=0ABBE548DFE235B58f9e8a93d@coffeebean.com>":
 Van Brummen naar Vorden in de voetsporen van Liudger\nVan 2008 tot ons eme
 ritaat in 2021 organiseerden mijn vrouw&nbsp\;Ingrid de Zwart (Deventer) e
 n ik (Dieren) jaarlijks een kerkenwandeling. In de loop der jaren voegden 
 ook deelnemers uit Zutphen en Colmschate-Schalkhaar zich erbij toen ik in 
 deze gemeente als interim-predikant werkzaam was.\nOp zaterdag 21 maart 20
 26 organiseer ik samen met twee gemeenteleden uit Dieren opnieuw een kerke
 nwandeling.\nWe starten in Brummen bij het station en steken met de pont d
 e IJssel over. Via Bronkhorst lopen we door het landschap van de uiterwaar
 den naar Wichmond – Vierakker. Na de lunch in het Ludgerusgebouw vervolgen
  we onze tocht door het coulisselandschap van de Achterhoek naar Vorden. D
 aar sluiten we de dag af met een vesper in de Dorpskerk. De wandeling word
 t aangeboden in Dieren\, Zutphen\, Deventer\, Colmschate - Schalkhaar en V
 orden. De deelname van mensen uit verschillende kerkelijke gemeenten voegt
  een extra dimensie toe aan deze wandeling\, zo is de ervaring.\nMet deze 
 wandeling treden wij in de voetsporen van Liudger die in 792 vanuit Brumme
 n de IJssel overstak om in de Achterhoek het evangelie te verkondigen en k
 erken te stichten. Wichmond was het eerste kerkje dat hij daar bouwde. Het
  Ludgerusgebouw naast de RK kerk in Vierakker draagt zijn naam.\nU moet re
 kenen op een stevige wandeling van ca. 19 km. Een goede wandelconditie is 
 dus een vereiste. De hele dag rijdt er een bezemwagen mee.\nWe zijn blij m
 et de gastvrijheid die de Protestantse Gemeente Vorden ons aanbiedt en wil
 len dan ook nadrukkelijk gemeenteleden uit Vorden uitnodigen om mee te doe
 n.\nKees Bochanen\nKosten: &nbsp\;&nbsp\;&nbsp\;&nbsp\;&nbsp\;&nbsp\;&nbsp
 \;&nbsp\;&nbsp\;&nbsp\;&nbsp\;&nbsp\;&nbsp\;&nbsp\;&nbsp\;&nbsp\;&nbsp\;&n
 bsp\;&nbsp\; € 30\, -- (excl. treinkosten)Aanmelden bij:&nbsp\;&nbsp\;&nbs
 p\;&nbsp\;&nbsp\;Jolanda Buitenhek (0313-414128 /&nbsp\;jol.buit@planet.nl
 )Aanmelden vóór 10 maart 2026\nNa aanmelding ontvangt u in de week voor de
  wandeling verdere informatie met treintijden e.d.
DTSTART:20260322T000000Z
DTEND:20260322T000000Z
GEO:00;0
LOCATION:
ORGANIZER:
SEQUENCE:1
SUMMARY:Kerkenwandeling
TRANSP:OPAQUE
URL:https://pgvorden.nl/actueel/agenda-activiteiten/878-kerkenwandeling/202
 6-03-22-00-00
END:VEVENT
END:VCALENDAR
